BEGIN:VCALENDAR
VERSION:2.0
PRODID:-//pretix//pretix.eu//
BEGIN:VTIMEZONE
TZID:Europe/Berlin
BEGIN:STANDARD
DTSTART:20001029T040000
RRULE:FREQ=YEARLY;BYDAY=-1SU;BYMONTH=10
TZNAME:CET
TZOFFSETFROM:+0200
TZOFFSETTO:+0100
END:STANDARD
BEGIN:DAYLIGHT
DTSTART:20000326T030000
RRULE:FREQ=YEARLY;BYDAY=-1SU;BYMONTH=3
TZNAME:CEST
TZOFFSETFROM:+0100
TZOFFSETTO:+0200
END:DAYLIGHT
END:VTIMEZONE
BEGIN:VEVENT
UID:pretix-nwz-gm-bremen2027-0@tickets.growmorrow.de
DTSTART;TZID=Europe/Berlin:20270422T100000
DTEND;TZID=Europe/Berlin:20270422T180000
DESCRIPTION:Tickets: https://tickets.growmorrow.de/gm-bremen2027/\nEinlass:
  22.04.2027 08:30\nVeranstalter: Nordwest-Zeitung Verlagsgesellschaft mbH 
 & Co. KG
DTSTAMP:20260420T014420Z
LOCATION:ENERGIELEITZENTRALE\, Am Speicher XI 11\, 28217 Bremen
SUMMARY:GROWMORROW FESTIVAL 2027 | Bremen
END:VEVENT
END:VCALENDAR
